BEGIN:VCALENDAR
VERSION:2.0
PRODID:-//https://urretxu.eus///NONSGML kigkonsult.se iCalcreator 2.10.15//
METHOD:PUBLISH
BEGIN:VEVENT
UID:20260424T142742UTC-00068SAcaT@https://urretxu.eus/
DTSTAMP:20260424T142742Z
DESCRIPTION: \nEgurrean egindako arte lanak\n09:30-13:30/15:00-21:00 astele
 henetik ostiralera10:00-13:30 larunbatetan\n \nAntolatzailea: Txiribi elka
 rtea https://urretxu.eus/eu/sustapen-soziokulturala/kultura/kultura-agenda
 /ekitaldia/20239-txiribiri-taila-elkartearen-erakusketa/
DTSTART:20260508T073000Z
DTEND:20260510T190000Z
LOCATION:Zelai Arizti aretoa (Zumarraga) (Legazpi Kalea\, 7\, 20700 Zumarra
 ga\, Gipuzkoa\, Spain)
SUMMARY:TXIRIBIRI TAILA ELKARTEAREN ERAKUSKETA
URL:https://urretxu.eus/eu/sustapen-soziokulturala/kultura/kultura-agenda/e
 kitaldia/20239-txiribiri-taila-elkartearen-erakusketa/
END:VEVENT
END:VCALENDAR
