BEGIN:VCALENDAR
VERSION:2.0
PRODID:-//https://urretxu.eus///NONSGML kigkonsult.se iCalcreator 2.10.15//
METHOD:PUBLISH
BEGIN:VEVENT
UID:20260424T160208UTC-6201jjTsZl@https://urretxu.eus/
DTSTAMP:20260424T160208Z
DESCRIPTION:EGUNA: 5 y 19 astearteak\nORDUA: 19:00\n\n\nMaiatzak 5: ¿QUÉ NO
 S CUENTAN LAS PALABRAS?\nMaiatzak 19: PECULIARIDADES DEL CUENTO CLÁSICO Y 
 LAS DE SUS ESCRITORES A TRAVÉS DE DISTINTAS ÉPOCAS. Gaztelaniaz.\n\n\nANTO
 LATZAILEA: Urretxuko Udala\n\n\n\n\nDoan\n\n\nIzen ematea: Aizpurunea kult
 ur etxea 943 038088\n\n\n\n\n\n  https://urretxu.eus/eu/sustapen-soziokult
 urala/kultura/kultura-agenda/ekitaldia/20214-literatura-tailerrak-liss-eve
 rmorekin/
DTSTART:20260519T170000Z
DTEND:20260519T180000Z
LOCATION:Aizpurunea Kultur Etxea (Urretxu) (Jauregi Kalea\, 19\, 20700 Urre
 txu\, Gipuzkoa\, Spain)
SUMMARY:LITERATURA TAILERRAK\, Liss Evermorekin
URL:https://urretxu.eus/eu/sustapen-soziokulturala/kultura/kultura-agenda/e
 kitaldia/20214-literatura-tailerrak-liss-evermorekin/
END:VEVENT
END:VCALENDAR
