BEGIN:VCALENDAR
VERSION:2.0
PRODID:-//https://urretxu.eus///NONSGML kigkonsult.se iCalcreator 2.10.15//
METHOD:PUBLISH
BEGIN:VEVENT
UID:20260424T142814UTC-0528GJuRtW@https://urretxu.eus/
DTSTAMP:20260424T142814Z
DESCRIPTION:ANTOLATZAILEA: Urretxuko Udala\n\nKuota: 10\,60€. (Programa hon
 etako 3 saio edo gehiagotan apuntatuz gero\, %25eko deskontua)\nInformazio
 a eta Izen-ematea: kultur etxean\, 943038088\n https://urretxu.eus/eu/sust
 apen-soziokulturala/kultura/kultura-agenda/ekitaldia/20195-giza-irudia-mar
 atoia-josu-marotorekin/
DTSTART:20260509T080000Z
DTEND:20260509T160000Z
LOCATION:Labeaga Aretoa (Urretxu) (Labeaga Kalea\, 20\, 20700 Urretxu\, Gip
 uzkoa\, Spain)
SUMMARY:GIZA IRUDIA MARATOIA\, Josu Marotorekin
URL:https://urretxu.eus/eu/sustapen-soziokulturala/kultura/kultura-agenda/e
 kitaldia/20195-giza-irudia-maratoia-josu-marotorekin/
END:VEVENT
END:VCALENDAR
