BEGIN:VCALENDAR
VERSION:2.0
PRODID:-//https://urretxu.eus///NONSGML kigkonsult.se iCalcreator 2.10.15//
METHOD:PUBLISH
BEGIN:VEVENT
UID:20260421T080644UTC-5769BcMgvC@https://urretxu.eus/
DTSTAMP:20260421T080644Z
DESCRIPTION:Urrenetik gatoz\, EKIDAren eskutik. Sarrera librea. https://urr
 etxu.eus/eu/sustapen-soziokulturala/kultura/kultura-agenda/ekitaldia/20187
 -emanaldi-multidiziplinarra-bertsoak-kantuak-eta-literatura/
DTSTART:20260314T173000Z
DTEND:20260314T183000Z
LOCATION:Labeaga Aretoa (Urretxu) (Labeaga Kalea\, 20\, 20700 Urretxu\, Gip
 uzkoa\, Spain)
SUMMARY:EMANALDI MULTIDIZIPLINARRA: BERTSOAK\, KANTUAK ETA LITERATURA
URL:https://urretxu.eus/eu/sustapen-soziokulturala/kultura/kultura-agenda/e
 kitaldia/20187-emanaldi-multidiziplinarra-bertsoak-kantuak-eta-literatura/
END:VEVENT
END:VCALENDAR
