BEGIN:VCALENDAR
VERSION:2.0
PRODID:-//https://urretxu.eus///NONSGML kigkonsult.se iCalcreator 2.10.15//
METHOD:PUBLISH
BEGIN:VEVENT
UID:20260420T090815UTC-8997Jk8fbE@https://urretxu.eus/
DTSTAMP:20260420T090815Z
DESCRIPTION:Liburua: 'CANTOS DE SIRENA'\, Charmian Clift\nANTOLATZAILEA: Ur
 retxuko Udala\n\n  https://urretxu.eus/eu/sustapen-soziokulturala/kultura/
 kultura-agenda/ekitaldia/20180-munduko-emakumeen-literaturaren-kluba-monic
 a-leivarekin/
DTSTART:20260326T173000Z
DTEND:20260326T183000Z
LOCATION:Aizpurunea Kultur Etxea (Urretxu) (Jauregi Kalea\, 19\, 20700 Urre
 txu\, Gipuzkoa\, Spain)
SUMMARY:MUNDUKO EMAKUMEEN LITERATURAREN KLUBA\, Mónica Leivarekin
URL:https://urretxu.eus/eu/sustapen-soziokulturala/kultura/kultura-agenda/e
 kitaldia/20180-munduko-emakumeen-literaturaren-kluba-monica-leivarekin/
END:VEVENT
END:VCALENDAR
