BEGIN:VCALENDAR
VERSION:2.0
PRODID:-//https://urretxu.eus///NONSGML kigkonsult.se iCalcreator 2.10.15//
METHOD:PUBLISH
BEGIN:VEVENT
UID:20260422T085033UTC-0768rscXR2@https://urretxu.eus/
DTSTAMP:20260422T085033Z
DESCRIPTION:ORDUA: 17:30 – 20:30 asteartetik igandera\n\n\nMartxoaren 23ra 
 arte\nInaugurazioa: martxoak 7\, 18:00\n\n\nANTOLATZAILEA: Urretxuko Udala
 \n\n  https://urretxu.eus/eu/sustapen-soziokulturala/kultura/kultura-agend
 a/ekitaldia/19807-bide-nagusiaren-bilaketa-artean-akuarela-erakusketa-mati
 lde-sainz-osinaga/
DTSTART:20250307T163000Z
DTEND:20250323T193000Z
LOCATION:Juan de Lizarazu Erakusketa Aretoa (Urretxu) (Labeaga Kalea\, 27\,
  20700 Urretxu\, Gipuzkoa\, Spain)
SUMMARY:'BIDE NAGUSIAREN BILAKETA ARTEAN' AKUARELA ERAKUSKETA\, MATILDE SAI
 NZ OSINAGA
URL:https://urretxu.eus/eu/sustapen-soziokulturala/kultura/kultura-agenda/e
 kitaldia/19807-bide-nagusiaren-bilaketa-artean-akuarela-erakusketa-matilde
 -sainz-osinaga/
END:VEVENT
END:VCALENDAR
