BEGIN:VCALENDAR
VERSION:2.0
PRODID:-//https://urretxu.eus///NONSGML kigkonsult.se iCalcreator 2.10.15//
METHOD:PUBLISH
BEGIN:VEVENT
UID:20260423T051006UTC-4292hJLERu@https://urretxu.eus/
DTSTAMP:20260423T051006Z
DESCRIPTION:    • Begiralea: Aitor Etxeberria    • Kuota: 16\,50 euro hilek
 o     • Izen-ematea:  kultur etxean  943 038088\nAntolatzailea: Urretxuko 
 Udala https://urretxu.eus/eu/sustapen-soziokulturala/kultura/kultura-agend
 a/ekitaldia/19778-pintura-eta-marrazketa/
DTSTART:20250205T173000Z
DTEND:20250205T193000Z
LOCATION:Aizpurunea Kultur Etxea (Urretxu) (Jauregi Kalea\, 19\, 20700 Urre
 txu\, Gipuzkoa\, Spain)
SUMMARY:PINTURA ETA MARRAZKETA 
URL:https://urretxu.eus/eu/sustapen-soziokulturala/kultura/kultura-agenda/e
 kitaldia/19778-pintura-eta-marrazketa/
END:VEVENT
END:VCALENDAR
