BEGIN:VCALENDAR
VERSION:2.0
PRODID:-//https://urretxu.eus///NONSGML kigkonsult.se iCalcreator 2.10.15//
METHOD:PUBLISH
BEGIN:VEVENT
UID:20260421T094658UTC-4598BVjsHc@https://urretxu.eus/
DTSTAMP:20260421T094658Z
DESCRIPTION:Herriko ikastetxeak eta Goiargi abesbatza\n \nAntolatzailea: He
 rriko ikastetxeak eta Goiargi abesbatza https://urretxu.eus/eu/sustapen-so
 ziokulturala/kultura/kultura-agenda/ekitaldia/19770-santa-ageda-bezperako-
 koplak-abestuz-kalejirak/
DTSTART:20260204T150000Z
DTEND:20260204T180000Z
LOCATION:Urretxuko kaleetan zehar (Iparragirre Kalea\, 20700 Urretxu\, Gipu
 zkoa\, Spain)
SUMMARY:SANTA AGEDA BEZPERAKO KOPLAK ABESTUZ KALEJIRAK
URL:https://urretxu.eus/eu/sustapen-soziokulturala/kultura/kultura-agenda/e
 kitaldia/19770-santa-ageda-bezperako-koplak-abestuz-kalejirak/
END:VEVENT
END:VCALENDAR
