BEGIN:VCALENDAR
VERSION:2.0
PRODID:-//https://urretxu.eus///NONSGML kigkonsult.se iCalcreator 2.10.15//
METHOD:PUBLISH
BEGIN:VEVENT
UID:20260420T100749UTC-2131RlXUMX@https://urretxu.eus/
DTSTAMP:20260420T100749Z
DESCRIPTION:UNA COMEDIA DEL ABSURDO\,MUY PROVOCADORA...CON UN DESENLACE QUE
  EL ESPECTADORDIFÍCILMENTE PODRÁ OLVIDAR.Debido a sucesos exteriores indef
 inibles\, el Seños A y el Señor B\, se ven empujados a una claustrofóbica 
 habitación a través de una puerta abierta. Son dos hombres de mediana edad
 \, comunes y corrientes\, que discuten tratando de entender por qué están 
 ahí\, qué causa les ha llevado a un sitio tan desconcertante.\n \nSarrerak
  Labeagako emanaldiak - 17:00 - 5€ Ederrena pilotalekukoa - 17:00 - 7€ Zaz
 pi ikuskizunerako bonoa- haurra + heldua: 30 € - haurra: 20 € Bonuak Salga
 i urtarrilaren 16tik otsailaren 14ra Aizpurunea kultur etxean: - Astelehen
 etik ostiralera:11:00 – 13:00 / 17:00 – 19:00 - Larunbatetan: 11:00 – 13:0
 0 Otsailaren 16an eta martxoaren 16an: Labeaga aretoan emanaldi egunetan. 
 Informazio gehiago https://urretxu.eus/eu/sustapen-soziokulturala/kultura/
 kultura-agenda/ekitaldia/19768-strip-tease-morfeo/
DTSTART:20251205T191500Z
DTEND:20251205T201500Z
LOCATION:Zelai Arizti aretoa (Zumarraga) (Legazpi Kalea\, 7\, 20700 Zumarra
 ga\, Gipuzkoa\, Spain)
SUMMARY:STRIP-TEASE - Morfeo
URL:https://urretxu.eus/eu/sustapen-soziokulturala/kultura/kultura-agenda/e
 kitaldia/19768-strip-tease-morfeo/
END:VEVENT
END:VCALENDAR
