BEGIN:VCALENDAR
VERSION:2.0
PRODID:-//https://urretxu.eus///NONSGML kigkonsult.se iCalcreator 2.10.15//
METHOD:PUBLISH
BEGIN:VEVENT
UID:20260421T080447UTC-11633uNgpJ@https://urretxu.eus/
DTSTAMP:20260421T080447Z
DESCRIPTION:Ikastola bateko itxaron gelan atera ezinik galditzen diren 5 em
 akumeen arteko historio desesperagarria da. Egoera larri honek\, mugarik g
 abeko ezusteko terapia batera eramango ditu\, bertan amatasunaren alde on 
 eta txarrak ateratzen joango dira...\nSarrerak Labeagako emanaldiak - 17:0
 0 - 5€ Ederrena pilotalekukoa - 17:00 - 7€ Zazpi ikuskizunerako bonoa- hau
 rra + heldua: 30 € - haurra: 20 € Bonuak Salgai urtarrilaren 16tik otsaila
 ren 14ra Aizpurunea kultur etxean: - Astelehenetik ostiralera:11:00 – 13:0
 0 / 17:00 – 19:00 - Larunbatetan: 11:00 – 13:00 Otsailaren 16an eta martxo
 aren 16an: Labeaga aretoan emanaldi egunetan. Informazio gehiago https://u
 rretxu.eus/eu/sustapen-soziokulturala/kultura/kultura-agenda/ekitaldia/197
 67-amak-txalo/
DTSTART:20251107T191500Z
DTEND:20251107T201500Z
LOCATION:Zelai Arizti aretoa (Zumarraga) (Legazpi Kalea\, 7\, 20700 Zumarra
 ga\, Gipuzkoa\, Spain)
SUMMARY:AMAK - Txalo
URL:https://urretxu.eus/eu/sustapen-soziokulturala/kultura/kultura-agenda/e
 kitaldia/19767-amak-txalo/
END:VEVENT
END:VCALENDAR
