BEGIN:VCALENDAR
VERSION:2.0
PRODID:-//https://urretxu.eus///NONSGML kigkonsult.se iCalcreator 2.10.15//
METHOD:PUBLISH
BEGIN:VEVENT
UID:20260420T224921UTC-1788F1u2ON@https://urretxu.eus/
DTSTAMP:20260420T224921Z
DESCRIPTION:Georgek eta Margaretek beren mugak defendatu behar dituzte. Biz
 ilagunak hor daude\, zelatan\, ahalik eta deskuidurik handienean gurutzatz
 eko zain. Baina Margaret galdera gehiegi egiten hasten denean\, komedia mu
 sikala\, bere bizitza zena\, tragedia basati bihurtzen da.\nSarrerak Labea
 gako emanaldiak - 17:00 - 5€ Ederrena pilotalekukoa - 17:00 - 7€ Zazpi iku
 skizunerako bonoa- haurra + heldua: 30 € - haurra: 20 € Bonuak Salgai urta
 rrilaren 16tik otsailaren 14ra Aizpurunea kultur etxean: - Astelehenetik o
 stiralera:11:00 – 13:00 / 17:00 – 19:00 - Larunbatetan: 11:00 – 13:00 Otsa
 ilaren 16an eta martxoaren 16an: Labeaga aretoan emanaldi egunetan. Inform
 azio gehiago https://urretxu.eus/eu/sustapen-soziokulturala/kultura/kultur
 a-agenda/ekitaldia/19763-arizona-txalo/
DTSTART:20250509T181500Z
DTEND:20250509T191500Z
LOCATION:Zelai Arizti aretoa (Zumarraga) (Legazpi Kalea\, 7\, 20700 Zumarra
 ga\, Gipuzkoa\, Spain)
SUMMARY:ARIZONA - Txalo
URL:https://urretxu.eus/eu/sustapen-soziokulturala/kultura/kultura-agenda/e
 kitaldia/19763-arizona-txalo/
END:VEVENT
END:VCALENDAR
