BEGIN:VCALENDAR
VERSION:2.0
PRODID:-//https://urretxu.eus///NONSGML kigkonsult.se iCalcreator 2.10.15//
METHOD:PUBLISH
BEGIN:VEVENT
UID:20260420T151811UTC-0271AsPUFS@https://urretxu.eus/
DTSTAMP:20260420T151811Z
DESCRIPTION:12 urtetik goiti Ibrahima kamioi batean zebilen aprendiz Ginean
 \, amak deitu zuen arte: anaia txikia falta zen etxean. Haren bila abiatu 
 zen. Basamortua gurutzatu\; pasatzailea\, polizia\, bahitzaileekin topo eg
 in\; egarria\, gosea\, mina ezagutu. Afrikatik Europarako bidea.\n\nANTOLA
 TZAILEA: Urretxuko eta Zumarragako udalak\n\n\nSarrera: 10€. Salgai takila
 n\, makina eta online agortu arte\n\n\nGazte txartelarekin: 7€\n\n\nOrdu g
 aztea: <30 urte <30 min. 5€\n\n\n https://urretxu.eus/eu/sustapen-soziokul
 turala/kultura/kultura-agenda/ekitaldia/19761-minan-artedrama/
DTSTART:20250307T191500Z
DTEND:20250307T201500Z
LOCATION:Zelai Arizti aretoa (Zumarraga) (Legazpi Kalea\, 7\, 20700 Zumarra
 ga\, Gipuzkoa\, Spain)
SUMMARY:MIÑAN - Artedrama
URL:https://urretxu.eus/eu/sustapen-soziokulturala/kultura/kultura-agenda/e
 kitaldia/19761-minan-artedrama/
END:VEVENT
END:VCALENDAR
