BEGIN:VCALENDAR
VERSION:2.0
PRODID:-//https://urretxu.eus///NONSGML kigkonsult.se iCalcreator 2.10.15//
METHOD:PUBLISH
BEGIN:VEVENT
UID:20260421T095026UTC-33042lkvKw@https://urretxu.eus/
DTSTAMP:20260421T095026Z
DESCRIPTION: \n\nGaur da eguna! Heldu da azkenean! Iritsi da orain arteko i
 bilbidea ospatzeko garaia. 2017an hasi ziren Potx eta Lotx pailazoak Euska
 l Herriari bira ematen. Bide horretan lagun pila bat egin dituzte eta gaur
 ko eguna hori ospatzeko baliatuko dute. Nola\, ez\, zailtasunez\, barrez e
 ta tontakeriaz betetako ospakizun galanta ekarriko digute. Etorri gurekin 
 ospatzera!\n\n\n70 minutu\n0-100 urte\n\n\nANTOLATZAILEA: Urretxuko eta Zu
 marragako udalak\n\n\nBonuak: haurra + laguntzailea: 30€ bonua/ haurra: 20
 € bonua\n\n\nSarrerak: 5 € \n\n\nBonu eta sarrera salmenta. Agortu arte. L
 abeaga aretoan\, emamanaldi egunean bertan: 12:30 – 14:30 / 16:00 – 17:00
 \n\n\n https://urretxu.eus/eu/sustapen-soziokulturala/kultura/kultura-agen
 da/ekitaldia/19753-potx-eta-lotx-lagunekin-topa-potx-eta-lotx-pailazoak-ha
 urrentzako-ikuskizuna-adin-guztiak/
DTSTART:20250316T160000Z
DTEND:20250316T171000Z
LOCATION:Labeaga Aretoa (Urretxu) (Labeaga Kalea\, 20\, 20700 Urretxu\, Gip
 uzkoa\, Spain)
SUMMARY:'POTX ETA LOTX LAGUNEKIN TOPA!'\, Potx eta Lotx pailazoak\, haurren
 tzako ikuskizuna (adin guztiak)
URL:https://urretxu.eus/eu/sustapen-soziokulturala/kultura/kultura-agenda/e
 kitaldia/19753-potx-eta-lotx-lagunekin-topa-potx-eta-lotx-pailazoak-haurre
 ntzako-ikuskizuna-adin-guztiak/
END:VEVENT
END:VCALENDAR
