BEGIN:VCALENDAR
VERSION:2.0
PRODID:-//https://urretxu.eus///NONSGML kigkonsult.se iCalcreator 2.10.15//
METHOD:PUBLISH
BEGIN:VEVENT
UID:20260419T230819UTC-80670Up9x4@https://urretxu.eus/
DTSTAMP:20260419T230819Z
DESCRIPTION:\n\n08:00 – 14:00 . ABERE FERIA ETA SARIKETA - Urdaneta hiribid
 ea (Zumarraga)\n\n\n08:00 – 14:00 . NEKAZARITZAKO TRESNEN FERIA - La Salle
 -Legazpi ikastetxeko patioa (Zumarraga)\n\n09:00 – 14:00 . EUSKAL OILOA ER
 AKUSKETA - Areizaga – Kalebarren plaza\n\n\n\nGoizean zehar . KALEJIRAK bi
  herriotan zehar\n\n\n\n 09:00 aurrera . SANTA LUTZIKO ARGAZKI RALLYA\n\n
 \n\n09:00 – 14:00\n\nAZOKA BEREZIAK - Euskadi plaza (Zumarraga) & Gernikak
 o Arbola plaza (Urretxu)\nESKUALDEKO EZTI LEHIAKETA - Areizaga kalea (Urre
 txu)\nESKULANEN ERAKUSKETA ETA SALMENTA\n\n09:00 – 14:00 Iparragirre kalea
  (Urretxu)\n09:00 – 20:00 Euskadi plaza eta Zelai Arizti pilotalekua (Zuma
 rraga)\n\n\n\n\n\n\n\n\n09:00 – 16:00 . ARABAKO ERRIOXAKO 31. ARDO AZOKA -
  Iparragirre plaza (Urretxu)\n\n\n\n\n\n11:00 – 14:00 . NON DAGO WALLY? - 
 Informazioa: Areizaga-Kalebarren plaza\n\n\n11:00etatik aurrera . TXEKOR E
 RREARREN PINTXOAK - Labeaga kalea – Gernikako Arbola plazaren goialdea\n\n
 \n\nJasotako dirua 'Marea Urdina' irabazi asmorik gabeko elkartearentzat i
 zango da\n\n\n\n12:30 . HERRI KIROL JAIALDIA - Ederrena pilotalekua (Urret
 xu)\n\n\n13:30 . ARTZAIN TXAKUR ERAKUSTALDI KOMENTATUA ARDIEKIN - Zubimusu
  plaza (Urretxu)\n\n\n13:30 . SARI-BANAKETA - Areizaga – Kalebarren plaza
 \n\n\n17:00 . PROFESIONALEN ARTEKO PILOTA PARTIDAK - Ederrena pilotalekua 
 (Urretxu)\n\n\n18:00 . IDI PROBAK - Euskadi plaza (Zumarraga)\n\n\n19:00 .
  ERROMERIA ZATEKEEN TALDEAREKIN - Areizaga-Kalebarren plaza (eguraldi txar
 rarekin Gernikako Arbola plazako karpan)\n\n\nANTOLATZAILEA: Urretxu eta Z
 umarragako udalak https://urretxu.eus/eu/sustapen-soziokulturala/kultura/k
 ultura-agenda/ekitaldia/19725-santa-lutzi-feria-eguneko-egitaraua/
DTSTART;VALUE=DATE:20241213
LOCATION:Urretxu eta Zumarraga (Casa de Ipeñarreta\, Iparragirre Kalea\, 20
 \, 20700 Urretxu\, Guipúzcoa\, Spain)
SUMMARY:SANTA LUTZI FERIA: Eguneko egitaraua
URL:https://urretxu.eus/eu/sustapen-soziokulturala/kultura/kultura-agenda/e
 kitaldia/19725-santa-lutzi-feria-eguneko-egitaraua/
END:VEVENT
END:VCALENDAR
