BEGIN:VCALENDAR
VERSION:2.0
PRODID:-//https://urretxu.eus///NONSGML kigkonsult.se iCalcreator 2.10.15//
METHOD:PUBLISH
BEGIN:VEVENT
UID:20260420T063110UTC-66043LDZum@https://urretxu.eus/
DTSTAMP:20260420T063110Z
DESCRIPTION:ANTOLATZAILEA: ZarraparraZ elkartea\n\nSarrera: 15 € entradium.
 com / Motz taberna\n\n https://urretxu.eus/eu/sustapen-soziokulturala/kult
 ura/kultura-agenda/ekitaldia/19705-kontzertua-galder/
DTSTART:20241130T180000Z
DTEND:20241130T190000Z
LOCATION:Labeaga Aretoa (Urretxu) (Labeaga Kalea\, 20\, 20700 Urretxu\, Gip
 uzkoa\, Spain)
SUMMARY:KONTZERTUA: “GALDER”
URL:https://urretxu.eus/eu/sustapen-soziokulturala/kultura/kultura-agenda/e
 kitaldia/19705-kontzertua-galder/
END:VEVENT
END:VCALENDAR
