BEGIN:VCALENDAR
VERSION:2.0
PRODID:-//https://urretxu.eus///NONSGML kigkonsult.se iCalcreator 2.10.15//
METHOD:PUBLISH
BEGIN:VEVENT
UID:20260421T143019UTC-9843JtI7ff@https://urretxu.eus/
DTSTAMP:20260421T143019Z
DESCRIPTION:ANTOLATZAILEA: Urretxuko Udala\n\n  https://urretxu.eus/eu/sust
 apen-soziokulturala/kultura/kultura-agenda/ekitaldia/19691-azaroa-lodifobi
 aren-kontra-ana-goitia-katana-bakarrizketa/
DTSTART:20241107T170000Z
DTEND:20241107T180000Z
LOCATION:Labeaga Aretoa (Urretxu) (Labeaga Kalea\, 20\, 20700 Urretxu\, Gip
 uzkoa\, Spain)
SUMMARY:Azaroa Lodifobiaren kontra: Ana Goitia: “KATANA” bakarrizketa
URL:https://urretxu.eus/eu/sustapen-soziokulturala/kultura/kultura-agenda/e
 kitaldia/19691-azaroa-lodifobiaren-kontra-ana-goitia-katana-bakarrizketa/
END:VEVENT
END:VCALENDAR
