BEGIN:VCALENDAR
VERSION:2.0
PRODID:-//https://urretxu.eus///NONSGML kigkonsult.se iCalcreator 2.10.15//
METHOD:PUBLISH
BEGIN:VEVENT
UID:20260420T004135UTC-5576Xr1Gvt@https://urretxu.eus/
DTSTAMP:20260420T004135Z
DESCRIPTION:Hizlaria: Roberto Matías Rodríguez. Investigador. Dr. Ingeniero
  de Minas\nANTOLATZAILEA: Urrelur Museoa – Urretxuko Udala\n\n  https://ur
 retxu.eus/eu/sustapen-soziokulturala/kultura/kultura-agenda/ekitaldia/1968
 0-hitzaldia-las-medulas-ipar-mendebaldeko-auriar-meatzaritza-erromatarrare
 n-multzoan/
DTSTART:20241102T113000Z
DTEND:20241102T123000Z
LOCATION:Urrelur. Mineral eta fosil museoa (Urretxu) (Jauregi Kalea\, 19\, 
 20700 Urretxu\, Gipuzkoa\, Spain)
SUMMARY:HITZALDIA: ““Las Médulas” Ipar Mendebaldeko auriar meatzaritza erro
 matarraren multzoan”
URL:https://urretxu.eus/eu/sustapen-soziokulturala/kultura/kultura-agenda/e
 kitaldia/19680-hitzaldia-las-medulas-ipar-mendebaldeko-auriar-meatzaritza-
 erromatarraren-multzoan/
END:VEVENT
END:VCALENDAR
