BEGIN:VCALENDAR
VERSION:2.0
PRODID:-//https://urretxu.eus///NONSGML kigkonsult.se iCalcreator 2.10.15//
METHOD:PUBLISH
BEGIN:VEVENT
UID:20260421T033159UTC-1924jVuacc@https://urretxu.eus/
DTSTAMP:20260421T033159Z
DESCRIPTION:EGUNAK: Irailaren 14tik aurrera\, astelehenetik ostiralera\nORD
 UA: 10:00 – 14:00 / 17:00 – 20:00\n\nURRIAREN 2tik ABENDUAREN 18ra asteazk
 enetan 18:30 – 20:30 izango den\n\nANTOLATZAILEA: Urretxuko Udala\n\nBegir
 alea: Aitor Etxeberria\nKuota: 16 euro hileko\nIzen ematea: kultur etxean 
 943 038088\n\n https://urretxu.eus/eu/sustapen-soziokulturala/kultura/kult
 ura-agenda/ekitaldia/19642-pintura-eta-marrazketa-ikastaroaren-izen-ematea
 /
DTSTART:20240914T080000Z
DTEND:20240914T180000Z
LOCATION:Aizpurunea Kultur Etxea (Urretxu) (Jauregi Kalea\, 19\, 20700 Urre
 txu\, Gipuzkoa\, Spain)
SUMMARY:PINTURA ETA MARRAZKETA IKASTAROAREN IZEN-EMATEA
URL:https://urretxu.eus/eu/sustapen-soziokulturala/kultura/kultura-agenda/e
 kitaldia/19642-pintura-eta-marrazketa-ikastaroaren-izen-ematea/
END:VEVENT
END:VCALENDAR
