BEGIN:VCALENDAR
VERSION:2.0
PRODID:-//https://urretxu.eus///NONSGML kigkonsult.se iCalcreator 2.10.15//
METHOD:PUBLISH
BEGIN:VEVENT
UID:20260420T100458UTC-0547jUPUdi@https://urretxu.eus/
DTSTAMP:20260420T100458Z
DESCRIPTION:URRIAREN 2tik ABENDUAREN 18ra asteazkenetan 18:30 – 20:30 izang
 o den\nANTOLATZAILEA: Urretxuko Udala\n\nBegiralea: Aitor Etxeberria\nKuot
 a: 16 euro hileko\nIzen ematea: Irailaren 14tik aurrera\, astelehenetik os
 tiralera. Orduak: 10:00 – 14:00 / 17:00 – 20:00\n\n https://urretxu.eus/eu
 /sustapen-soziokulturala/kultura/kultura-agenda/ekitaldia/19636-pintura-et
 a-marrazketa/
DTSTART:20241113T173000Z
DTEND:20241113T193000Z
LOCATION:Aizpurunea Kultur Etxea (Urretxu) (Jauregi Kalea\, 19\, 20700 Urre
 txu\, Gipuzkoa\, Spain)
SUMMARY:PINTURA ETA MARRAZKETA
URL:https://urretxu.eus/eu/sustapen-soziokulturala/kultura/kultura-agenda/e
 kitaldia/19636-pintura-eta-marrazketa/
END:VEVENT
END:VCALENDAR
