BEGIN:VCALENDAR
VERSION:2.0
PRODID:-//https://urretxu.eus///NONSGML kigkonsult.se iCalcreator 2.10.15//
METHOD:PUBLISH
BEGIN:VEVENT
UID:20260419T121851UTC-242673jFNn@https://urretxu.eus/
DTSTAMP:20260419T121851Z
DESCRIPTION:Euskal musika munduko musika ezberdinekin eta musikagaraikidear
 ekin uztartuz\, bidaia erakargarri bat aurkezten digute\, non inprobisazio
 ak ere lekugarrantzistua duen.\nANTOLATZAILEA: Urretxuko Udala\nSarrera: d
 oan\n\n  https://urretxu.eus/eu/sustapen-soziokulturala/kultura/kultura-ag
 enda/ekitaldia/19617-kontzertua-gor-e-ka-tx-gorka-hermosa-oreka-tx/
DTSTART:20240908T103000Z
DTEND:20240908T113000Z
LOCATION:Labeaga Aretoa (Urretxu) (Labeaga Kalea\, 20\, 20700 Urretxu\, Gip
 uzkoa\, Spain)
SUMMARY:KONTZERTUA: 'GOR(E)KA TX.'. GORKA HERMOSA + OREKA TX
URL:https://urretxu.eus/eu/sustapen-soziokulturala/kultura/kultura-agenda/e
 kitaldia/19617-kontzertua-gor-e-ka-tx-gorka-hermosa-oreka-tx/
END:VEVENT
END:VCALENDAR
