BEGIN:VCALENDAR
VERSION:2.0
PRODID:-//https://urretxu.eus///NONSGML kigkonsult.se iCalcreator 2.10.15//
METHOD:PUBLISH
BEGIN:VEVENT
UID:20260423T054504UTC-5263zZupN6@https://urretxu.eus/
DTSTAMP:20260423T054504Z
DESCRIPTION:ERAKUSKETA: Urretxu eta urretxuarrak\nANTOLATZAILEA: Urretxuko 
 Udala\n\n  https://urretxu.eus/eu/sustapen-soziokulturala/kultura/kultura-
 agenda/ekitaldia/19614-interesgunea-urretxu/
DTSTART:20240901T154700Z
DTEND:20240930T174700Z
LOCATION:Urretxuko Liburutegia (Jauregi Kalea\, 21\, 20700 Urretxu\, Gipuzk
 oa\, Spain)
SUMMARY:INTERESGUNEA: URRETXU
URL:https://urretxu.eus/eu/sustapen-soziokulturala/kultura/kultura-agenda/e
 kitaldia/19614-interesgunea-urretxu/
END:VEVENT
END:VCALENDAR
