BEGIN:VCALENDAR
VERSION:2.0
PRODID:-//https://urretxu.eus///NONSGML kigkonsult.se iCalcreator 2.10.15//
METHOD:PUBLISH
BEGIN:VEVENT
UID:20260421T094927UTC-7830lm7eRr@https://urretxu.eus/
DTSTAMP:20260421T094927Z
DESCRIPTION:10:00 – 14:00 / 17:00 -20:00 astelehenetik ostiralera10:00 – 13
 :00 larunbatetan\nAntolatzailea: Urretxuko Udala https://urretxu.eus/eu/su
 stapen-soziokulturala/kultura/kultura-agenda/ekitaldia/19612-2024ko-urretx
 uko-santa-anastasia-jaietako-egitarauaren-portada-aukeratzeko-lehiaketako-
 lanen-erakusketa/
DTSTART:20240712T080000Z
DTEND:20240723T180000Z
LOCATION:Aizpurunea Kultur Etxea (Urretxu) (Jauregi Kalea\, 19\, 20700 Urre
 txu\, Gipuzkoa\, Spain)
SUMMARY:2024ko URRETXUKO SANTA ANASTASIA JAIETAKO EGITARAUAREN PORTADA AUKE
 RATZEKO LEHIAKETAKO LANEN ERAKUSKETA
URL:https://urretxu.eus/eu/sustapen-soziokulturala/kultura/kultura-agenda/e
 kitaldia/19612-2024ko-urretxuko-santa-anastasia-jaietako-egitarauaren-port
 ada-aukeratzeko-lehiaketako-lanen-erakusketa/
END:VEVENT
END:VCALENDAR
