BEGIN:VCALENDAR
VERSION:2.0
PRODID:-//https://urretxu.eus///NONSGML kigkonsult.se iCalcreator 2.10.15//
METHOD:PUBLISH
BEGIN:VEVENT
UID:20260419T165915UTC-9954vtNd8K@https://urretxu.eus/
DTSTAMP:20260419T165915Z
DESCRIPTION:Antolatzailea: Urretxuko Udala https://urretxu.eus/eu/sustapen-
 soziokulturala/kultura/kultura-agenda/ekitaldia/19552-2024ko-urretxuko-san
 ta-anastasia-jaietako-egitarauaren-portada-aukeratzeko-lehiaketa/
DTSTART:20240628T180000Z
DTEND:20240628T190000Z
LOCATION:Aizpurunea Kultur Etxea (Urretxu) (Jauregi Kalea\, 19\, 20700 Urre
 txu\, Gipuzkoa\, Spain)
SUMMARY:2024ko URRETXUKO SANTA ANASTASIA JAIETAKO EGITARAUAREN PORTADA AUKE
 RATZEKO LEHIAKETA
URL:https://urretxu.eus/eu/sustapen-soziokulturala/kultura/kultura-agenda/e
 kitaldia/19552-2024ko-urretxuko-santa-anastasia-jaietako-egitarauaren-port
 ada-aukeratzeko-lehiaketa/
END:VEVENT
END:VCALENDAR
