BEGIN:VCALENDAR
VERSION:2.0
PRODID:-//https://urretxu.eus///NONSGML kigkonsult.se iCalcreator 2.10.15//
METHOD:PUBLISH
BEGIN:VEVENT
UID:20260419T214530UTC-3617D2C63L@https://urretxu.eus/
DTSTAMP:20260419T214530Z
DESCRIPTION:Urretxu eta Zumarragako leiho\, balkoi eta baserrien sarrerak.
 \nSari banaketa uztailaren 11an Zelai Arizti kultur etxean (Zumarraga).\nA
 ntolatzailea: Urretxu eta Zumarragako Udalak https://urretxu.eus/eu/sustap
 en-soziokulturala/kultura/kultura-agenda/ekitaldia/19526-urretxu-zumarraga
 ko-37-lore-sariketa/
DTSTART:20250615T220000Z
DTEND:20250626T220000Z
LOCATION:Urretxu eta Zumarraga (Casa de Ipeñarreta\, Iparragirre Kalea\, 20
 \, 20700 Urretxu\, Guipúzcoa\, Spain)
SUMMARY:URRETXU ZUMARRAGAKO 37. LORE SARIKETA 
URL:https://urretxu.eus/eu/sustapen-soziokulturala/kultura/kultura-agenda/e
 kitaldia/19526-urretxu-zumarragako-37-lore-sariketa/
END:VEVENT
END:VCALENDAR
