BEGIN:VCALENDAR
VERSION:2.0
PRODID:-//https://urretxu.eus///NONSGML kigkonsult.se iCalcreator 2.10.15//
METHOD:PUBLISH
BEGIN:VEVENT
UID:20260421T192013UTC-4147lzCkhM@https://urretxu.eus/
DTSTAMP:20260421T192013Z
DESCRIPTION:Etorri egun honetan eta mineralez osatutako lepoko bat opari er
 amango duzu!\nAntolatzailea: Urretxuko Udala https://urretxu.eus/eu/sustap
 en-soziokulturala/kultura/kultura-agenda/ekitaldia/19492-ate-irekiak-museo
 en-nazioarteko-egunean/
DTSTART:20240518T080000Z
DTEND:20240518T110000Z
LOCATION:Urrelur. Mineral eta fosil museoa (Urretxu) (Jauregi Kalea\, 19\, 
 20700 Urretxu\, Gipuzkoa\, Spain)
SUMMARY:ATE IREKIAK MUSEOEN NAZIOARTEKO EGUNEAN
URL:https://urretxu.eus/eu/sustapen-soziokulturala/kultura/kultura-agenda/e
 kitaldia/19492-ate-irekiak-museoen-nazioarteko-egunean/
END:VEVENT
END:VCALENDAR
