BEGIN:VCALENDAR
VERSION:2.0
PRODID:-//https://urretxu.eus///NONSGML kigkonsult.se iCalcreator 2.10.15//
METHOD:PUBLISH
BEGIN:VEVENT
UID:20260420T201653UTC-0825gpJg1H@https://urretxu.eus/
DTSTAMP:20260420T201653Z
DESCRIPTION:ARGAZKI ERAKUSKETA\n\nApirilaren 28ra arte\nArtisten aurkezpena
  apirilaren 17an izango da\, 18:00\nORDUA: 17:30 – 20:30 asteartetik igand
 era\n\nANTOLATZAILEA: Urretxuko Udala\n\n  https://urretxu.eus/eu/sustapen
 -soziokulturala/kultura/kultura-agenda/ekitaldia/19467-metalaren-arrastoak
 -eduardo-arrillaga-eta-esmeralda-zapparoli/
DTSTART:20240412T153000Z
DTEND:20240428T183000Z
LOCATION:Juan de Lizarazu Erakusketa Aretoa (Urretxu) (Labeaga Kalea\, 27\,
  20700 Urretxu\, Gipuzkoa\, Spain)
SUMMARY:“METALAREN ARRASTOAK” - EDUARDO ARRILLAGA eta ESMERALDA ZAPPAROLI
URL:https://urretxu.eus/eu/sustapen-soziokulturala/kultura/kultura-agenda/e
 kitaldia/19467-metalaren-arrastoak-eduardo-arrillaga-eta-esmeralda-zapparo
 li/
END:VEVENT
END:VCALENDAR
