BEGIN:VCALENDAR
VERSION:2.0
PRODID:-//https://urretxu.eus///NONSGML kigkonsult.se iCalcreator 2.10.15//
METHOD:PUBLISH
BEGIN:VEVENT
UID:20260422T053006UTC-7970oinfdO@https://urretxu.eus/
DTSTAMP:20260422T053006Z
DESCRIPTION:'Potx eta Lotxen ametsa betetzear da! Denbora askoan aurrezten 
 ibili eta gero\, hegazkinez bidaiatu ahal izango dute. Baina aireportuko m
 egafoniatik entzuten dute euren hegaldia atzeratu behar izan dela ezinbest
 ean. Aireportuan luzaro egon beharko dute zain. Zer abentura biziko dute?'
 \nANTOLATZAILEA: Urretxu eta Zumarragako udalak\n\nSarrera: 5€\nBonoa: 7 s
 aio: haurra+laguntzailea = 30 €\, bonua haurra: 20 €\n\n https://urretxu.e
 us/eu/sustapen-soziokulturala/kultura/kultura-agenda/ekitaldia/19286-potx-
 eta-lotx/
DTSTART:20241117T160000Z
DTEND:20241117T170000Z
LOCATION:Labeaga Aretoa (Urretxu) (Labeaga Kalea\, 20\, 20700 Urretxu\, Gip
 uzkoa\, Spain)
SUMMARY:POTX ETA LOTX
URL:https://urretxu.eus/eu/sustapen-soziokulturala/kultura/kultura-agenda/e
 kitaldia/19286-potx-eta-lotx/
END:VEVENT
END:VCALENDAR
