BEGIN:VCALENDAR
VERSION:2.0
PRODID:-//https://urretxu.eus///NONSGML kigkonsult.se iCalcreator 2.10.15//
METHOD:PUBLISH
BEGIN:VEVENT
UID:20260419T165656UTC-9370jMIdbV@https://urretxu.eus/
DTSTAMP:20260419T165656Z
DESCRIPTION:'Endreduzko thriller politikoa bi aktorerentzat\, espazio eta d
 enbora unitate bakarrean (...) Zaila da gaur eguneko antzezlan bat genero 
 klasikoen muga zorrotzen barruan sailkatzea. KORTXOAREN DILEMA honek sakon
 tasun handiko konflikto politikoak eta dilema etikoak baliatzen ditu\, bai
 na ez da drama bat\, baizik eta komedia politikoa. Zergatik eta bere egitu
 ragatik. Antzezlan hau endreduzko komedia bihurtzen da trama eroagatik. Et
 engabe irteten dira ustekabeko untxiak txisteratik. Ustekabeok egoera bako
 itzaren norabidea errotik aldatzen dute\, pertsonaiak eta ondorioz ikuslea
 k ere\, ezustean harrapatuz. Ezer ez da hasiera batean ematen duena. Eta p
 olitikoa da\, kontzeptuaren alderik intimoenean\, pertsonaiak amildegiaren
  ertzean kokatzen dituelako. Bizitza bera joka dezakegu\, zenbait printzip
 io politiko mugaraino asumituz gero.'\nTOKIA: ZelaI Arizti aretoa\nANTOLAT
 ZAILEA: Urretxu eta Zumarragako udalak\n\nSarrera: 10€. Salgai takilan\, m
 akina eta online\nGazte txartelarekin: 7€\nOrdu Gaztea: <30 urte <30 min. 
 5€.\n\n\n https://urretxu.eus/eu/sustapen-soziokulturala/kultura/kultura-a
 genda/ekitaldia/19280-kortxoaren-dilema-tartean-teatroa-eus/
DTSTART:20241205T191500Z
DTEND:20241205T211500Z
LOCATION:Zelai Arizti aretoa (Zumarraga) (Legazpi Kalea\, 7\, 20700 Zumarra
 ga\, Gipuzkoa\, Spain)
SUMMARY:KORTXOAREN DILEMA\, Tartean teatroa (eus)
URL:https://urretxu.eus/eu/sustapen-soziokulturala/kultura/kultura-agenda/e
 kitaldia/19280-kortxoaren-dilema-tartean-teatroa-eus/
END:VEVENT
END:VCALENDAR
