BEGIN:VCALENDAR
VERSION:2.0
PRODID:-//https://urretxu.eus///NONSGML kigkonsult.se iCalcreator 2.10.15//
METHOD:PUBLISH
BEGIN:VEVENT
UID:20260421T160925UTC-8733h3RW19@https://urretxu.eus/
DTSTAMP:20260421T160925Z
DESCRIPTION:“Gernikako Arbola euskaldunon ereserkia” https://urretxu.eus/eu
 /sustapen-soziokulturala/kultura/kultura-agenda/ekitaldia/19138-gernikako-
 arbola-ekimena-hitzaldia-gernikako-arbola-euskaldunon-ereserkia/
DTSTART:20231123T173000Z
DTEND:20231123T190000Z
LOCATION:Udaletxeko Portaloia (Urretxu) (Casa de Ipeñarreta\, Iparragirre K
 alea\, 20\, 20700 Urretxu\, Guipúzcoa\, Zumarraga\, Spain)
SUMMARY: “GERNIKAKO ARBOLA” ekimena - HITZALDIA: “Gernikako Arbola euskaldu
 non ereserkia”
URL:https://urretxu.eus/eu/sustapen-soziokulturala/kultura/kultura-agenda/e
 kitaldia/19138-gernikako-arbola-ekimena-hitzaldia-gernikako-arbola-euskald
 unon-ereserkia/
END:VEVENT
END:VCALENDAR
