BEGIN:VCALENDAR
VERSION:2.0
PRODID:-//https://urretxu.eus///NONSGML kigkonsult.se iCalcreator 2.10.15//
METHOD:PUBLISH
BEGIN:VEVENT
UID:20260421T023448UTC-4972jSILZd@https://urretxu.eus/
DTSTAMP:20260421T023448Z
DESCRIPTION:Duela milaka urte\, giza-talde bat otso taldeez inguratuta dago
 \, eta mamut handi baten hezur arrastoen ondoan babesten da. Baina hezurdu
 ra horretan ez dago haragi arrastorik ahora eramateko eta gosea baretzeko.
 Inguratuta eta gosetuta dago gizaki primitibo hauen taldea. Baina muturrek
 o egoera horretan zerbait harrigarria gertatzen da. Horrela\, besteen harr
 idurarako\, gizakietako batek hezur lehor eta ahitu bat hartu eta hezur ho
 ri estaltzen duen haragi zaporetsua dastatzen eta mastekatzen ari dela sim
 ulatzen du. Fartsa\, fikzio edo antzerki keinua. Baina beste errealitate b
 atzuk irudikatzeko irrika indartsua adierazten duena. Eta\, denboraren pod
 erioz\, ahalmen horrek planetako animaliarik boteretsuena eta ustekabekoen
 a bihurtuko du\nHaurren bonuen salmenta: Urtarrilaren 16tik aurrera Urretx
 uko kultur etxeanBonuak 7 saio: haurra + laguntzailea: 30 € Haurren bonua:
  20 €Sarrerak: 5€ Labeaga aretoko emanaldiak Maiatzakoak: 7 €Antolatzailea
 : Urretxu eta Zumarragako udalak https://urretxu.eus/eu/sustapen-soziokult
 urala/kultura/kultura-agenda/ekitaldia/18780-mamut-markeline/
DTSTART:20230205T160000Z
DTEND:20230205T170000Z
LOCATION:Labeaga Aretoa (Urretxu) (Labeaga Kalea\, 20\, 20700 Urretxu\, Gip
 uzkoa\, Spain)
SUMMARY:MAMUT\, Markeliñe
URL:https://urretxu.eus/eu/sustapen-soziokulturala/kultura/kultura-agenda/e
 kitaldia/18780-mamut-markeline/
END:VEVENT
END:VCALENDAR
