BEGIN:VCALENDAR
VERSION:2.0
PRODID:-//https://urretxu.eus///NONSGML kigkonsult.se iCalcreator 2.10.15//
METHOD:PUBLISH
BEGIN:VEVENT
UID:20260420T095740UTC-9323cCwCuk@https://urretxu.eus/
DTSTAMP:20260420T095740Z
DESCRIPTION:ARIMA SOUL\, Mikel Makala (baxua) eta Lidia Insausti (ahotsa) s
 ortututako Soul musika proiektu dugu\, geroago Paul San Martin (teklatuak)
  eta Gorka Gaztanbide (bateria) gehitu zirelarik. 60 eta 70 hamarkadako Rh
 ythm & Blues\, Soul\, Funk eta Jazz-Groove taldeen eragin argiarekin\, bai
 na baita estilo horietako korronte garaikideenari begira\, hau da Neo-Soul
 a.Zuzenekoetan\, euskaraz abestutako abesti propioak jotzeaz gain\, Soul e
 stiloaren zenbait artisten bertsioak interpretatzen dituzte: Etta James\, 
 Curtis Mayfield\, Gil Scott-Heron\, Marie “Queenie” Lyons.\nHelduen bonuen
  salmenta: Urtarrilaren 16tik aurrera Zumarragako kultur etxeanBonuak: 70 
 € - 9 saio / 35 € - euskerazkoak + dantza / musikaSarrerak: 10€. Salgai ta
 kilan\, makina eta onlineGazte txartelarekin: 7€ Ordu gaztea: <30 urte <30
  min. 5€Antolatzailea: Urretxu eta Zumarragako udalak https://urretxu.eus/
 eu/sustapen-soziokulturala/kultura/kultura-agenda/ekitaldia/18774-arima-so
 ul-musika/
DTSTART:20231006T181500Z
DTEND:20231006T193000Z
LOCATION:Zelai Arizti aretoa (Zumarraga) (Legazpi Kalea\, 7\, 20700 Zumarra
 ga\, Gipuzkoa\, Spain)
SUMMARY:ARIMA SOUL\, musika
URL:https://urretxu.eus/eu/sustapen-soziokulturala/kultura/kultura-agenda/e
 kitaldia/18774-arima-soul-musika/
END:VEVENT
END:VCALENDAR
