BEGIN:VCALENDAR
VERSION:2.0
PRODID:-//https://urretxu.eus///NONSGML kigkonsult.se iCalcreator 2.10.15//
METHOD:PUBLISH
BEGIN:VEVENT
UID:20260422T115620UTC-9323nNs9eu@https://urretxu.eus/
DTSTAMP:20260422T115620Z
DESCRIPTION:EGUNA: 11\, igandea\nORDUA: Egun osoan\nTOKIA: Iparragirre plaz
 a eta Ederrena pilotalekua (Urretxu)\nANTOLATZAILEA: Urretxuko Udala\n\n  
 https://urretxu.eus/eu/sustapen-soziokulturala/kultura/kultura-agenda/ekit
 aldia/17993-adinekoen-eguna/
DTSTART;VALUE=DATE:20230910
LOCATION:Iparragirre plaza (Urretxu) (Iparragirre Kalea\, 22\, 20700 Urretx
 u\, Gipuzkoa\, Spain)
SUMMARY:ADINEKOEN EGUNA
URL:https://urretxu.eus/eu/sustapen-soziokulturala/kultura/kultura-agenda/e
 kitaldia/17993-adinekoen-eguna/
END:VEVENT
END:VCALENDAR
