BEGIN:VCALENDAR
VERSION:2.0
PRODID:-//https://urretxu.eus///NONSGML kigkonsult.se iCalcreator 2.10.15//
METHOD:PUBLISH
BEGIN:VEVENT
UID:20260420T005720UTC-46468CdfO5@https://urretxu.eus/
DTSTAMP:20260420T005720Z
DESCRIPTION:EGUNA: 4 – 22\, astelehenetik ostiralera\nORDUA: 11:00 – 13:30
 \nUrtero bezala\, liburutegiaren zati bat kalera irteten da. Terraza liter
 arioa bere aurrean.\nTOKIA: Jauregi kalea (Urretxu)\nANTOLATZAILEA: Urretx
 uko udala\n\n  https://urretxu.eus/eu/sustapen-soziokulturala/kultura/kult
 ura-agenda/ekitaldia/17834-interesgunea-udara-liburuen-parkea/
DTSTART:20220704T090000Z
DTEND:20220704T113000Z
LOCATION:Jauregi kalea (Urretxu) (Jauregi Kalea\, 1\, 20700 Urretxu\, Gipuz
 koa\, Spain)
SUMMARY:INTERESGUNEA: Udara - LIBURUEN PARKEA
URL:https://urretxu.eus/eu/sustapen-soziokulturala/kultura/kultura-agenda/e
 kitaldia/17834-interesgunea-udara-liburuen-parkea/
END:VEVENT
END:VCALENDAR
