BEGIN:VCALENDAR
VERSION:2.0
PRODID:-//https://urretxu.eus///NONSGML kigkonsult.se iCalcreator 2.10.15//
METHOD:PUBLISH
BEGIN:VEVENT
UID:20260421T094603UTC-5569bxv0B5@https://urretxu.eus/
DTSTAMP:20260421T094603Z
DESCRIPTION:'GISELLE'\, Compañía Nacional de Danza Joaquín de Luz\, koreogr
 afia DOAKO AUTOBUS ZERBITZUA EGONGO DA SARRERA EROSITA DUTENENTZAT Informa
 zioa eta izen ematea: 943 038088 Aizpurunea kultur etxea (Urretxu) Antolat
 zailea: Kursaal eszena https://urretxu.eus/eu/sustapen-soziokulturala/kult
 ura/kultura-agenda/ekitaldia/17660-dantza-donostian-kursaal-eskura-program
 aren-barruan/
DTSTART:20220529T170000Z
DTEND:20220529T180000Z
LOCATION:Kursaal Auditorioa (Donostia) (Zurriola Hiribidea\, 1 20002 Donost
 ia - San Sebastián)
SUMMARY:DANTZA: DONOSTIAN KURSAAL ESKURA PROGRAMAREN BARRUAN
URL:https://urretxu.eus/eu/sustapen-soziokulturala/kultura/kultura-agenda/e
 kitaldia/17660-dantza-donostian-kursaal-eskura-programaren-barruan/
END:VEVENT
END:VCALENDAR
