BEGIN:VCALENDAR
VERSION:2.0
PRODID:-//https://urretxu.eus///NONSGML kigkonsult.se iCalcreator 2.10.15//
METHOD:PUBLISH
BEGIN:VEVENT
UID:20260420T111607UTC-7827wZ3IWX@https://urretxu.eus/
DTSTAMP:20260420T111607Z
DESCRIPTION:17:30 – 20:30 asteartetik igandera\, maiatzaren 22ra arte Ilust
 razioa * Instagram: @ibanecerezo Antolatzailea: Urretxuko Udala https://ur
 retxu.eus/eu/sustapen-soziokulturala/kultura/kultura-agenda/ekitaldia/1762
 4-ibane-cerezo-olatua-la-ola-erakusketa/
DTSTART:20220506T153000Z
DTEND:20220522T183000Z
LOCATION:Juan de Lizarazu Erakusketa Aretoa (Urretxu) (Labeaga Kalea\, 27\,
  20700 Urretxu\, Gipuzkoa\, Spain)
SUMMARY:IBANE CEREZO “OLATUA-LA OLA”  ERAKUSKETA
URL:https://urretxu.eus/eu/sustapen-soziokulturala/kultura/kultura-agenda/e
 kitaldia/17624-ibane-cerezo-olatua-la-ola-erakusketa/
END:VEVENT
END:VCALENDAR
