BEGIN:VCALENDAR
VERSION:2.0
PRODID:-//https://urretxu.eus///NONSGML kigkonsult.se iCalcreator 2.10.15//
METHOD:PUBLISH
BEGIN:VEVENT
UID:20260421T141338UTC-4433F3t8Mk@https://urretxu.eus/
DTSTAMP:20260421T141338Z
DESCRIPTION:Sorterriko arriskuak atzean utzita\, Koton familia hirira abiat
 uko da bizitza eta aukera berrien bila. Hiriko teilatu\, argien eta lanteg
 iko makina eta oihalen artean\, amak eta bi alabek abentura berriak eta ar
 risku ezezagunak biziko dituzte. Baina\, oraingoan\, ez daude bakarrik eta
  gogor ekingo diote zoriontsu izateko nahiari.\n\nAnita Maravillas\n50 min
  - + 5 urte\n\nBonu eta sarreren inguruan https://urretxu.eus/eu/sustapen-
 soziokulturala/kultura/kultura-agenda/ekitaldia/17500-kotondarrak/
DTSTART:20220213T160000Z
DTEND:20220213T170000Z
LOCATION:Labeaga Aretoa (Urretxu) (Labeaga Kalea\, 20\, 20700 Urretxu\, Gip
 uzkoa\, Spain)
SUMMARY:KOTONDARRAK
URL:https://urretxu.eus/eu/sustapen-soziokulturala/kultura/kultura-agenda/e
 kitaldia/17500-kotondarrak/
END:VEVENT
END:VCALENDAR
