BEGIN:VCALENDAR
VERSION:2.0
PRODID:-//https://urretxu.eus///NONSGML kigkonsult.se iCalcreator 2.10.15//
METHOD:PUBLISH
BEGIN:VEVENT
UID:20260422T125730UTC-0050Ob5R3T@https://urretxu.eus/
DTSTAMP:20260422T125730Z
DESCRIPTION:-Non daude sedukzio berrirako marra gorriak? -Zaharkitutako kod
 e berriak nola ordezkatu\, “koittadu parea” bihurtu gabe?  -Dena emanda la
 rrua nola jo\, harreman orekatu eta libre batean? -Jakingo al dugu generoa
 ren ikuspegi berritik aurre egiten?\nEszenatoki gainean\, emakume eta gizo
 n bat\, 9 urteko bikote harremanean\, eta 14 hilabeteko sexu-lehortean. “G
 abezia” horri konponbidea bilatzeko\, ikuslearekin hartu-emanean jardungo 
 dute.  Komedia\, barra-barra\, eta baita une mingarriak ere\, “galdutako s
 exuaren bila” azalduko zaigun bikotearentzat (eta ikusleentzat)  ariketa b
 arregarria.\n\nInterpreteak:  Ane Gabarain Mikel Laskurain\n\nTxalo produk
 zioak\nEuskaraz\nBonu eta sarreren inguruan\n\nInformación sobre los bonos
  y entradas https://urretxu.eus/eu/sustapen-soziokulturala/kultura/kultura
 -agenda/ekitaldia/17489-kottauak/
DTSTART:20220204T191500Z
DTEND:20220204T201500Z
LOCATION:Zelai Arizti aretoa (Zumarraga) (Legazpi Kalea\, 7\, 20700 Zumarra
 ga\, Gipuzkoa\, Spain)
SUMMARY:KOTTAUAK
URL:https://urretxu.eus/eu/sustapen-soziokulturala/kultura/kultura-agenda/e
 kitaldia/17489-kottauak/
END:VEVENT
END:VCALENDAR
