BEGIN:VCALENDAR
VERSION:2.0
PRODID:-//https://urretxu.eus///NONSGML kigkonsult.se iCalcreator 2.10.15//
METHOD:PUBLISH
BEGIN:VEVENT
UID:20260420T034727UTC-4414Wrmjub@https://urretxu.eus/
DTSTAMP:20260420T034727Z
DESCRIPTION:Begiralea: Josu Maroto\nIkastaroa otsailaren 8an izango da  18:
 30 - 21:00\nKuota: 10€  Programa honetako 3 saio edo gehiagotan apuntatuz 
 gero\, %25eko deskontua)\nIzen-ematea: otsailaren 8a arte kultur etxean (1
 0:00 – 14:00 / 17:00 – 20:00)\n https://urretxu.eus/eu/sustapen-soziokultu
 rala/kultura/kultura-agenda/ekitaldia/17476-giza-irudia-ikastaroan-izen-em
 atea/
DTSTART:20220105T125900Z
DTEND:20220208T145900Z
LOCATION:Aizpurunea Kultur Etxea (Urretxu) (Jauregi Kalea\, 19\, 20700 Urre
 txu\, Gipuzkoa\, Spain)
SUMMARY:GIZA IRUDIA IKASTAROAN  IZEN-EMATEA
URL:https://urretxu.eus/eu/sustapen-soziokulturala/kultura/kultura-agenda/e
 kitaldia/17476-giza-irudia-ikastaroan-izen-ematea/
END:VEVENT
END:VCALENDAR
