BEGIN:VCALENDAR
VERSION:2.0
PRODID:-//https://urretxu.eus///NONSGML kigkonsult.se iCalcreator 2.10.15//
METHOD:PUBLISH
BEGIN:VEVENT
UID:20260420T055907UTC-2256GVtJIo@https://urretxu.eus/
DTSTAMP:20260420T055907Z
DESCRIPTION:SAN JOAN PILOTA TXAPELKETA\n23 igandea\, 10:30\nSan Joan Txiki 
 pilota txapelketa\nLekua: Ederrena pilotalekua (Urretxu)\n\nSan Joan 2019 
 - Egitaraua | Programa\n{loadmoduleid 545}\n{rsfiles path='Cultura/san joa
 n/Egitaraua San Joan 2019.pdf'} https://urretxu.eus/eu/sustapen-soziokultu
 rala/kultura/ekitaldia/9372-san-joan-txiki-pilota-txapelketa/
DTSTART:20190623T083000Z
DTEND:20190623T103000Z
LOCATION:Ederrena Pilotalekua (Urretxu) (San Martin Etxetaldea\, 4\, 20700 
 Urretxu\, Gipuzkoa\, Spain)
SUMMARY:San Joan Txiki pilota txapelketa
URL:https://urretxu.eus/eu/sustapen-soziokulturala/kultura/ekitaldia/9372-s
 an-joan-txiki-pilota-txapelketa/
END:VEVENT
END:VCALENDAR
