BEGIN:VCALENDAR
VERSION:2.0
PRODID:-//https://urretxu.eus///NONSGML kigkonsult.se iCalcreator 2.10.15//
METHOD:PUBLISH
BEGIN:VEVENT
UID:20260420T075347UTC-4367NMcR0T@https://urretxu.eus/
DTSTAMP:20260420T075347Z
DESCRIPTION:Organiza: Argazkia Argazki Elkartea\nColabora: ayuntamiento de 
 Zumarraga\nIV CONCURSO FOTOGRÁFICO FIESTAS DE SANTA ISABEL\n\nTemática: Fi
 estas de Santa Isabel 2018 (seis fotos por colección). Entendiendo como ta
 les todas las actividades del programa de fiestas.\nPlazo: 5 de julio\nBas
 es: zelaiarizti.eus\n\n  https://urretxu.eus/eu/sustapen-soziokulturala/ku
 ltura/ekitaldia/9047-iv-concurso-fotografico-fiestas-de-santa-isabel/
DTSTART;VALUE=DATE:20180601
LOCATION:Zelai Arizti kultur etxea (Zumarraga) (Legazpi Kalea\, 7\, 20700 Z
 umarraga\, Gipuzkoa\, Spain)
SUMMARY:IV Concurso fotográfico: Fiestas de Santa Isabel
URL:https://urretxu.eus/eu/sustapen-soziokulturala/kultura/ekitaldia/9047-i
 v-concurso-fotografico-fiestas-de-santa-isabel/
END:VEVENT
END:VCALENDAR
