BEGIN:VCALENDAR
VERSION:2.0
PRODID:-//https://urretxu.eus///NONSGML kigkonsult.se iCalcreator 2.10.15//
METHOD:PUBLISH
BEGIN:VEVENT
UID:20260420T041538UTC-5244dkvptl@https://urretxu.eus/
DTSTAMP:20260420T041538Z
DESCRIPTION:Eskaera-orria Urretxuko Udalaren Erregistroan aurkeztu beharko 
 da behar bezala beteta\, Udalak duen eredu normalizatuaren arabera\, 2017k
 o ekainaren 4tik 2018ko  martxoaren 31ra arte.\n\nHelburua Xabier Ormazaba
 l zenaren oroitzapena eta eredua bizirik mantentzea eta mendizaletasunarek
 in lotuta dauden maila handiko eta orijinaltasunezko proiektuak bultzatzea
  da.\n\nInformazio osoa https://urretxu.eus/eu/sustapen-soziokulturala/kul
 tura/ekitaldia/3211-xabier-ormazabal-beka/
DTSTART;VALUE=DATE:20170604
LOCATION:Urretxuko Udala (Iparragirre Kalea\, 20\, 20700 Urretxu\, Gipuzkoa
 \, Spain)
SUMMARY:Xabier ormazabal beka
URL:https://urretxu.eus/eu/sustapen-soziokulturala/kultura/ekitaldia/3211-x
 abier-ormazabal-beka/
END:VEVENT
END:VCALENDAR
