BEGIN:VCALENDAR
VERSION:2.0
PRODID:-//https://urretxu.eus///NONSGML kigkonsult.se iCalcreator 2.10.15//
METHOD:PUBLISH
BEGIN:VEVENT
UID:20260420T024725UTC-8048VJlVD5@https://urretxu.eus/
DTSTAMP:20260420T024725Z
DESCRIPTION:Antolatzaileak: Urretxu eta Zumarragako udalak\nLaguntzaileak: 
 Gueske\, Nagusilan eta Eusko Jaurlaritza Osasun Saila\nTTIPI ETAPA\nOINEZ 
 IBILTZEKO HERRI ZIRKUITOAK\n\nAsteazkenak\nOrdua: 11:00\nTopalekua: Areiza
 ga – Kalebarren plaza\n https://urretxu.eus/eu/sustapen-soziokulturala/kul
 tura/ekitaldia/3092-ttipi-etapa-oinez-ibiltzeko-herri-zirkuitoak/
DTSTART:20180110T100000Z
DTEND:20180110T110000Z
LOCATION:Areizaga - Kalebarren plaza (Urretxu) (Areizaga-Kalebarren)
SUMMARY:Ttipi ETAPA: Oinez Ibiltzeko Herri Zirkuitoak
URL:https://urretxu.eus/eu/sustapen-soziokulturala/kultura/ekitaldia/3092-t
 tipi-etapa-oinez-ibiltzeko-herri-zirkuitoak/
END:VEVENT
END:VCALENDAR
