BEGIN:VCALENDAR
VERSION:2.0
PRODID:-//https://urretxu.eus///NONSGML kigkonsult.se iCalcreator 2.10.15//
METHOD:PUBLISH
BEGIN:VEVENT
UID:20260420T042123UTC-6731kIKANV@https://urretxu.eus/
DTSTAMP:20260420T042123Z
DESCRIPTION:Antolatzailea: Zumarraga-Urretxuko Bertso Eskola\nBabesleak: Zu
 marraga eta Urretxuko udalak\nESKOLARTEKO XXXI. BERTSOPAPER LEHIAKETA\nHir
 u maila bereiziko dira:\nA maila) LHko 5. eta 6. mailakoak\n\nLana: 2 bert
 so edo 4 kopla idaztea\nGaia: 'AMONA NEGARREZ IKUSI DUZU GAUR'\n\nB maila)
  DBHko 1. eta 2. mailakoak\n\nLana: 2 bertso idaztea\nGaia:'ZURE LEhENENGO
  bIDEOA IGOTZEN ARI ZARA YOUTUbE-RA'\n\nD maila) DBHko 3. eta 4. mailakoak
 \n\nLana: gutxienez 3 eta gehienez 5 bertso idaztea\nGaia: librea\n\nLanak
  aurkezteko epea: 2018-03-16\nLekuak:\n\nAizpurunea kultur etxea (Urretxu)
 \nZelai Arizti kultur etxea (Zumarraga)\n https://urretxu.eus/eu/sustapen-
 soziokulturala/kultura/ekitaldia/2169-eskolarteko-xxxi-bertsopaper-lehiake
 ta/
DTSTART;VALUE=DATE:20180201
LOCATION:Aizpurunea Kultur Etxea (Urretxu) (Jauregi Kalea\, 19\, 20700 Urre
 txu\, Gipuzkoa\, Spain)
SUMMARY:Eskolarteko XXXI. Bertsopaper Lehiaketa
URL:https://urretxu.eus/eu/sustapen-soziokulturala/kultura/ekitaldia/2169-e
 skolarteko-xxxi-bertsopaper-lehiaketa/
END:VEVENT
END:VCALENDAR
