BEGIN:VCALENDAR
VERSION:2.0
PRODID:-//https://urretxu.eus///NONSGML kigkonsult.se iCalcreator 2.10.15//
METHOD:PUBLISH
BEGIN:VEVENT
UID:20260420T075327UTC-2098EiI60T@https://urretxu.eus/
DTSTAMP:20260420T075327Z
DESCRIPTION:\nLiburua: 'ESTUPOR Y TEMBLORES'\, Amélie Nothom.\n\nANTOLATZAI
 LEA: Urretxuko Udala https://urretxu.eus/eu/sustapen-soziokulturala/kultur
 a/ekitaldia/20210-munduko-emakumeen-literaturaren-kluba/
DTSTART:20260430T163000Z
DTEND:20260430T173000Z
LOCATION:Aizpurunea Kultur Etxea (Urretxu) (Jauregi Kalea\, 19\, 20700 Urre
 txu\, Gipuzkoa\, Spain)
SUMMARY:MUNDUKO EMAKUMEEN LITERATURAREN KLUBA
URL:https://urretxu.eus/eu/sustapen-soziokulturala/kultura/ekitaldia/20210-
 munduko-emakumeen-literaturaren-kluba/
END:VEVENT
END:VCALENDAR
