BEGIN:VCALENDAR
VERSION:2.0
PRODID:-//https://urretxu.eus///NONSGML kigkonsult.se iCalcreator 2.10.15//
METHOD:PUBLISH
BEGIN:VEVENT
UID:20260420T055516UTC-32143clx7z@https://urretxu.eus/
DTSTAMP:20260420T055516Z
DESCRIPTION:\nHilabete honetan bi egun berezi ospatuz\, apirilaren 2an Haur
  eta Gazte Liburuaren Nazioarteko Eguna eta apirilaren 23an Liburuaren Naz
 ioarteko Eguna.\n\n“LETRA ZAPARRADA” IPUIN-SAIOA\, Alboka eta Stravinsky\n
 \nGonbidapenak jasotzea: apirilaren 13tik aurrera liburutegian\nAdina: 6 u
 rtetik gora\n\nANTOLATZAILEA Urretxuko Udala https://urretxu.eus/eu/sustap
 en-soziokulturala/kultura/ekitaldia/20209-interesgunea-liburuak-plazara/
DTSTART:20260428T150000Z
DTEND:20260428T160000Z
LOCATION:Urretxuko Liburutegia (Jauregi Kalea\, 21\, 20700 Urretxu\, Gipuzk
 oa\, Spain)
SUMMARY:INTERESGUNEA: LIBURUAK PLAZARA
URL:https://urretxu.eus/eu/sustapen-soziokulturala/kultura/ekitaldia/20209-
 interesgunea-liburuak-plazara/
END:VEVENT
END:VCALENDAR
