BEGIN:VCALENDAR
VERSION:2.0
PRODID:-//https://urretxu.eus///NONSGML kigkonsult.se iCalcreator 2.10.15//
METHOD:PUBLISH
BEGIN:VEVENT
UID:20260420T061620UTC-8464Kr7cwF@https://urretxu.eus/
DTSTAMP:20260420T061620Z
DESCRIPTION:Kuota: 17 euro hileko.\nAsteazkenetan.\nIzen-ematea: kultur etx
 ean - 943 038088\nANTOLATZAILEA: Urretxuko Udala https://urretxu.eus/eu/su
 stapen-soziokulturala/kultura/ekitaldia/20144-pintura-eta-marrazketa-aitor
 -etxeberriaren-eskutik/
DTSTART:20260204T173000Z
DTEND:20260204T193000Z
LOCATION:Aizpurunea Kultur Etxea (Urretxu) (Jauregi Kalea\, 19\, 20700 Urre
 txu\, Gipuzkoa\, Spain)
SUMMARY:PINTURA ETA MARRAZKETA\, Aitor Etxeberriaren eskutik
URL:https://urretxu.eus/eu/sustapen-soziokulturala/kultura/ekitaldia/20144-
 pintura-eta-marrazketa-aitor-etxeberriaren-eskutik/
END:VEVENT
END:VCALENDAR
