BEGIN:VCALENDAR
VERSION:2.0
PRODID:-//https://urretxu.eus///NONSGML kigkonsult.se iCalcreator 2.10.15//
METHOD:PUBLISH
BEGIN:VEVENT
UID:20260420T041843UTC-8127uViS3r@https://urretxu.eus/
DTSTAMP:20260420T041843Z
DESCRIPTION:LIBURU AURKEZPENA: “UROLA. CAMINO DE HIERRO Y AGUA”\, Mikel Ima
 zdapenak jasotzea: azaroaren 24tik aurrera liburutegian\, agortu arte.\nAN
 TOLATZAILEA: Urretxuko Udala https://urretxu.eus/eu/sustapen-soziokultural
 a/kultura/ekitaldia/20097-interesgunea-urolako-trena-100-urte/
DTSTART:20260224T180000Z
DTEND:20260224T190000Z
LOCATION:Urretxuko Liburutegia (Jauregi Kalea\, 21\, 20700 Urretxu\, Gipuzk
 oa\, Spain)
SUMMARY:INTERESGUNEA: UROLAKO TRENA. 100 URTE
URL:https://urretxu.eus/eu/sustapen-soziokulturala/kultura/ekitaldia/20097-
 interesgunea-urolako-trena-100-urte/
END:VEVENT
END:VCALENDAR
