BEGIN:VCALENDAR
VERSION:2.0
PRODID:-//https://urretxu.eus///NONSGML kigkonsult.se iCalcreator 2.10.15//
METHOD:PUBLISH
BEGIN:VEVENT
UID:20260420T075347UTC-1889OdxAVp@https://urretxu.eus/
DTSTAMP:20260420T075347Z
DESCRIPTION:Antolatzailea: Urretxuko Udala https://urretxu.eus/eu/sustapen-
 soziokulturala/kultura/ekitaldia/19924-zine-foruma-sexualitatea-65-urtetik
 -gora-harremanak-elkartea/
DTSTART:20251023T150000Z
DTEND:20251023T170000Z
LOCATION:Labeaga Aretoa (Urretxu) (Labeaga Kalea\, 20\, 20700 Urretxu\, Gip
 uzkoa\, Spain)
SUMMARY:ZINE-FORUMA: “SEXUALITATEA 65 URTETIK GORA” HARREMANAK ELKARTEA
URL:https://urretxu.eus/eu/sustapen-soziokulturala/kultura/ekitaldia/19924-
 zine-foruma-sexualitatea-65-urtetik-gora-harremanak-elkartea/
END:VEVENT
END:VCALENDAR
