BEGIN:VCALENDAR
VERSION:2.0
PRODID:-//https://urretxu.eus///NONSGML kigkonsult.se iCalcreator 2.10.15//
METHOD:PUBLISH
BEGIN:VEVENT
UID:20260420T041843UTC-8558kXog1c@https://urretxu.eus/
DTSTAMP:20260420T041843Z
DESCRIPTION:• Urriak 19\, SAN MIGUEL ABESBATZA (Orkoien-Nafarroa)• Urriak 2
 6\, GOIARGI ABESBATZA (Urretxu-Zumarraga)• Azaroak 2\, PSALM MEN VOICE (In
 donesia)\, TOLOSAKO NAZIOARTEKO ABESBATZ LEHIAKETAKO TALDEA • Azaroak 9\, 
 IESU ABESBATZA (Donostia)Sarrera doan\nAntolatzailea: Urretxuko Udala eta 
 Goiargi abesbatza https://urretxu.eus/eu/sustapen-soziokulturala/kultura/e
 kitaldia/19920-39-udazkeneko-musika-zikloa/
DTSTART:20251019T170000Z
DTEND:20251019T180000Z
LOCATION:San Martin de Tours eliza (Urretxu) (Jauregi Kalea\, 23\, 20700 Ur
 retxu\, Gipuzkoa\, Spain)
SUMMARY:39. UDAZKENEKO MUSIKA ZIKLOA
URL:https://urretxu.eus/eu/sustapen-soziokulturala/kultura/ekitaldia/19920-
 39-udazkeneko-musika-zikloa/
END:VEVENT
END:VCALENDAR
