BEGIN:VCALENDAR
VERSION:2.0
PRODID:-//https://urretxu.eus///NONSGML kigkonsult.se iCalcreator 2.10.15//
METHOD:PUBLISH
BEGIN:VEVENT
UID:20260420T042527UTC-4052E3DV4W@https://urretxu.eus/
DTSTAMP:20260420T042527Z
DESCRIPTION:-11:00 Erraldoi-buruhandiak egiteko tailerra-12:15 “Euskal band
 oleroen kontakizuna” -13:00 Urretxuko erraldoi-buruhandien dantza saioa -1
 8:30 Urretxuko Erraldoien kalejira erdiguneko kaleetan -19:00 Buruhandien 
 topaketa-”entzierroa” plazaraino -19:30 Erraldoi-buruhandien dantza -20:00
  Disko festa jaialdia\nAntolatzailea: Lekaio kultur elkartea https://urret
 xu.eus/eu/sustapen-soziokulturala/kultura/ekitaldia/19919-buruhandi-eta-er
 raldoien-jaialdia-ongi-etorri-txiki-handien-erresumara/
DTSTART:20251018T090000Z
DTEND:20251018T183000Z
LOCATION:Gernikako Arbola plaza (Urretxu) (Gernikako Arbola Plaza\, 20700 U
 rretxu\, Gipuzkoa\, Spain)
SUMMARY:BURUHANDI ETA ERRALDOIEN JAIALDIA: “ONGI ETORRI TXIKI-HANDIEN ERRES
 UMARA”
URL:https://urretxu.eus/eu/sustapen-soziokulturala/kultura/ekitaldia/19919-
 buruhandi-eta-erraldoien-jaialdia-ongi-etorri-txiki-handien-erresumara/
END:VEVENT
END:VCALENDAR
